BEGIN:VCALENDAR
VERSION:2.0
PRODID:-//Kytaristi z Parku z.s. - ECPv6.15.20//NONSGML v1.0//EN
CALSCALE:GREGORIAN
METHOD:PUBLISH
X-WR-CALNAME:Kytaristi z Parku z.s.
X-ORIGINAL-URL:https://kytaristizparku.eu
X-WR-CALDESC:Akce na Kytaristi z Parku z.s.
REFRESH-INTERVAL;VALUE=DURATION:PT1H
X-Robots-Tag:noindex
X-PUBLISHED-TTL:PT1H
BEGIN:VTIMEZONE
TZID:Europe/Paris
BEGIN:DAYLIGHT
TZOFFSETFROM:+0100
TZOFFSETTO:+0200
TZNAME:CEST
DTSTART:20250330T010000
END:DAYLIGHT
BEGIN:STANDARD
TZOFFSETFROM:+0200
TZOFFSETTO:+0100
TZNAME:CET
DTSTART:20251026T010000
END:STANDARD
BEGIN:DAYLIGHT
TZOFFSETFROM:+0100
TZOFFSETTO:+0200
TZNAME:CEST
DTSTART:20260329T010000
END:DAYLIGHT
BEGIN:STANDARD
TZOFFSETFROM:+0200
TZOFFSETTO:+0100
TZNAME:CET
DTSTART:20261025T010000
END:STANDARD
BEGIN:DAYLIGHT
TZOFFSETFROM:+0100
TZOFFSETTO:+0200
TZNAME:CEST
DTSTART:20270328T010000
END:DAYLIGHT
BEGIN:STANDARD
TZOFFSETFROM:+0200
TZOFFSETTO:+0100
TZNAME:CET
DTSTART:20271031T010000
END:STANDARD
END:VTIMEZONE
BEGIN:VEVENT
DTSTART;TZID=Europe/Paris:20260402T170000
DTEND;TZID=Europe/Paris:20260402T220000
DTSTAMP:20260419T185713
CREATED:20260305T193312Z
LAST-MODIFIED:20260305T193319Z
UID:1271-1775149200-1775167200@kytaristizparku.eu
SUMMARY:Zelený čtvrtek na Spartaku
DESCRIPTION:Zelený čtvrtek na Spartaku\n  \nKrutopřísná kalba na Spartaku tak jak to máte rádi. \nBude zelené pivo a hromada super muziky.
URL:https://kytaristizparku.eu/udalost/zeleny-ctvrtek-na-spartaku/
LOCATION:Restuarace na Spartaku\, Slatina\, Tuřanka 1260/1\, Brno\, 62100\, Czech Republic
CATEGORIES:Veřejná hudební událost
ATTACH;FMTTYPE=image/jpeg:https://kytaristizparku.eu/wp-content/uploads/2025/05/Obrazek-WhatsApp-2025-05-01-v-15.42.37_2184d31f.jpg
END:VEVENT
BEGIN:VEVENT
DTSTART;TZID=Europe/Paris:20260402T160000
DTEND;TZID=Europe/Paris:20260402T183000
DTSTAMP:20260419T185713
CREATED:20260305T190209Z
LAST-MODIFIED:20260315T203713Z
UID:1262-1775145600-1775154600@kytaristizparku.eu
SUMMARY:Zelený čtvrtek vinotéka u Mikuláška
DESCRIPTION:Zelený čtvrtek\, vinotéka u Mikuláška\n🎻 Hraní u Vinotéky u Mikuláška 🎶 Zelený čtvrtek plný hudby a pohody 🍷 \nPřijďte si užít tradiční odpolední hraní pro radost do Vinotéky u Mikuláška!\nNa Zelený čtvrtek se tu opět rozezní hudba\, smích i cinkání skleniček. \nČeká vás příjemné setkání přátel\, sousedů i milovníků dobrého vína a muziky.\nBez spěchu\, bez starostí – jen radost z hudby\, společných chvil a jarní atmosféry. \n🌿 Kdy: Zelený čtvrtek 2.4.\n🍷 Kde: Vinotéka u Mikuláška\n🎵 Co: Tradiční odpolední hraní pro radost \nVezměte s sebou dobrou náladu\, přátele a chuť si zazpívat.\nTěšíme se na vás! 💚
URL:https://kytaristizparku.eu/udalost/zeleny-ctvrtek-vinoteka-u-mikulaska/
LOCATION:Vinotéka u Mikuláška\, Šlapanice\, B. Němcové 1477\, Šlapanice\, 66451\, Czech Republic
CATEGORIES:Veřejná hudební událost
ATTACH;FMTTYPE=image/jpeg:https://kytaristizparku.eu/wp-content/uploads/2026/03/u-mikulaska.jpg
END:VEVENT
BEGIN:VEVENT
DTSTART;TZID=Europe/Paris:20260401T180000
DTEND;TZID=Europe/Paris:20260401T220000
DTSTAMP:20260419T185713
CREATED:20260305T191028Z
LAST-MODIFIED:20260305T191035Z
UID:1265-1775066400-1775080800@kytaristizparku.eu
SUMMARY:Aprílové kytary v Parku
DESCRIPTION:Aprílové kytary v Parku\nAprílové bláznivé hraní v Bistru\nPřijďte si užít tradiční hraní pro radost do Bistra Park.\n Kdy: středa 1.4.2026 Kde: Bistro Park Co: Tradiční hraní pro radost\nVezměte s sebou dobrou náladu\, přátele a chuť posedět.Nástroje a hlasivky.Těšíme se na vás! 
URL:https://kytaristizparku.eu/udalost/aprilove-kytary-v-parku/
LOCATION:Bistro Park\, Riegerova\, Šlapanice\, Riegerova\, Šlapanice\, 66451\, Česká republika
CATEGORIES:Veřejná hudební událost
ATTACH;FMTTYPE=image/jpeg:https://kytaristizparku.eu/wp-content/uploads/2026/03/05_11_2025_spolecne-foto.jpg
END:VEVENT
BEGIN:VEVENT
DTSTART;TZID=Europe/Paris:20260329T140000
DTEND;TZID=Europe/Paris:20260329T170000
DTSTAMP:20260419T185713
CREATED:20260317T104150Z
LAST-MODIFIED:20260317T104158Z
UID:1306-1774792800-1774803600@kytaristizparku.eu
SUMMARY:Hrací a otužovací výlet do Mariánského údolí
DESCRIPTION:Hrací a otužovací výlet do Mariánského údolí \nNástroje a dobrou náladu s sebou. \nPřijďte si s námi zahrát a zazpívat. Sraz ve 14:00 v Mariánském údolí u chaty Mariánka.\nKdo chce může si i zaplavat – není to povinné. Ale znáte to – ve zdravém těle\, zdravý duch. Však vidíte ty dva blázny \nSraz až na místě  nástroje a dobrou náladu sebou.\nInstrukce pro otužilce. Nezapomeňte:PlavkyOblečení na převlečeníručníkboty do vodyhorký nápoj
URL:https://kytaristizparku.eu/udalost/hraci-a-otuzovaci-vylet-do-marianskeho-udoli/
LOCATION:Mariánské údolí\, Mariánské údolí 576/1\, Brno\, 62800
CATEGORIES:Veřejná hudební událost
ATTACH;FMTTYPE=image/jpeg:https://kytaristizparku.eu/wp-content/uploads/2025/01/Messenger_creation_E9A9AB2C-5A11-4C82-B33F-E510C3946E71.jpeg_compressed.jpeg
END:VEVENT
BEGIN:VEVENT
DTSTART;TZID=Europe/Paris:20260325T193000
DTEND;TZID=Europe/Paris:20260325T233000
DTSTAMP:20260419T185713
CREATED:20260316T201832Z
LAST-MODIFIED:20260316T201838Z
UID:1301-1774467000-1774481400@kytaristizparku.eu
SUMMARY:KzP v Expediční klubovně - Ambasáda
DESCRIPTION:KzP v Expediční klubovně – Ambasáda. \nHrajeme ze zpěvníku\, všichni společně. Vezměte nástroje a přijďte.
URL:https://kytaristizparku.eu/udalost/kzp-v-expedicni-klubovne-ambasada/
LOCATION:Expediční klubovna / Ambasáda\, Jezuitská 1\, Brno\, 60200
CATEGORIES:Veřejná hudební událost
ATTACH;FMTTYPE=image/jpeg:https://kytaristizparku.eu/wp-content/uploads/2026/03/635030233_1846564459384191_5048473117317517112_n.jpg
END:VEVENT
BEGIN:VEVENT
DTSTART;TZID=Europe/Paris:20260321T090000
DTEND;TZID=Europe/Paris:20260322T180000
DTSTAMP:20260419T185713
CREATED:20251217T102116Z
LAST-MODIFIED:20251217T102116Z
UID:1230-1774083600-1774202400@kytaristizparku.eu
SUMMARY:3. víkendový hudební workshop pro děti
DESCRIPTION:3. víkendový hudební workshop pro děti\nSrdečně zveme budoucí hudební a taneční hvězdy na přípravku a workshop pro muzikanty.\n\n\nPro děti připravíme zajímavý hudební program tak\, aby se na workshopech naučily něco zahrát a zazpívat a veřejně se prezentovat.\nPo absolvování celého cyklu pak budou moct veřejně vystoupit na pódiu před diváky v Bistru Maxi Papi na Soutoku v Ponětovicích.\nTřetí a poslední workshop v březnu 21.3.-22.3.2026\n\nTermín finálního koncertu upřesníme.\nProgram:Sobota: 09:00 sraz | dopolední hraní | výlet ven | oběd – zajistíme my | odpolední program | 18:00 odchod domů\nNeděle: 09:00 sraz | dopolední hraní | výlet ven | oběd – zajistíme my | odpolední program | 18:00 odchod domů\n\nCo sebou:Přezůvky\, teplé oblečení na výlety\, hudební nástroj pokud na něco hrají (mohou jej celý víkend nechat ve zkušebně) – ostatním zapůjčíme\, svačinu\, lahvičku s pitím na výlet\, drobné pokud bychom šli kolem nějakého stánku a chtěli si něco koupit.\nNa akci se bude fotit\, proto přihlášením souhlasíte s použitím fotek na propagační účely.\nCena 1 000Kč/ víkend\nV případě zájmu napište email na predseda@kytaristizparku.eu pošlu vám přihlášku a detailní informace\, případně se domluvíme na specifických potřebách dítěte.
URL:https://kytaristizparku.eu/udalost/3-vikendovy-hudebni-workshop-pro-deti/
LOCATION:Zkušebna KzP\, Lidická\, Šlapanice\, 66451\, Czech Republic
CATEGORIES:Veřejná hudební událost
ORGANIZER;CN="Kytaristi z Parku":MAILTO:jsme@kytaristizparku.eu
END:VEVENT
END:VCALENDAR