BEGIN:VCALENDAR
VERSION:2.0
PRODID:-//Kytaristi z Parku z.s. - ECPv6.15.20//NONSGML v1.0//EN
CALSCALE:GREGORIAN
METHOD:PUBLISH
X-WR-CALNAME:Kytaristi z Parku z.s.
X-ORIGINAL-URL:https://kytaristizparku.eu
X-WR-CALDESC:Akce na Kytaristi z Parku z.s.
REFRESH-INTERVAL;VALUE=DURATION:PT1H
X-Robots-Tag:noindex
X-PUBLISHED-TTL:PT1H
BEGIN:VTIMEZONE
TZID:Europe/Paris
BEGIN:DAYLIGHT
TZOFFSETFROM:+0100
TZOFFSETTO:+0200
TZNAME:CEST
DTSTART:20250330T010000
END:DAYLIGHT
BEGIN:STANDARD
TZOFFSETFROM:+0200
TZOFFSETTO:+0100
TZNAME:CET
DTSTART:20251026T010000
END:STANDARD
BEGIN:DAYLIGHT
TZOFFSETFROM:+0100
TZOFFSETTO:+0200
TZNAME:CEST
DTSTART:20260329T010000
END:DAYLIGHT
BEGIN:STANDARD
TZOFFSETFROM:+0200
TZOFFSETTO:+0100
TZNAME:CET
DTSTART:20261025T010000
END:STANDARD
BEGIN:DAYLIGHT
TZOFFSETFROM:+0100
TZOFFSETTO:+0200
TZNAME:CEST
DTSTART:20270328T010000
END:DAYLIGHT
BEGIN:STANDARD
TZOFFSETFROM:+0200
TZOFFSETTO:+0100
TZNAME:CET
DTSTART:20271031T010000
END:STANDARD
END:VTIMEZONE
BEGIN:VEVENT
DTSTART;TZID=Europe/Paris:20260418T140000
DTEND;TZID=Europe/Paris:20260418T170000
DTSTAMP:20260419T173118
CREATED:20260305T195130Z
LAST-MODIFIED:20260305T195137Z
UID:1278-1776520800-1776531600@kytaristizparku.eu
SUMMARY:Babylonský gulášfest
DESCRIPTION:Babylonský gulášfest v Medlánkách na letišti \nBude se jíst a bude se i hrát.
URL:https://kytaristizparku.eu/udalost/babylonsky-gulasfest/
LOCATION:U křivé vrtule\, Turistická 67\, Brno\, 62100\, Czech Republic
CATEGORIES:Veřejná hudební událost
ATTACH;FMTTYPE=image/jpeg:https://kytaristizparku.eu/wp-content/uploads/2025/03/pexels-karolina-grabowska-4871236-scaled.jpg
END:VEVENT
BEGIN:VEVENT
DTSTART;TZID=Europe/Paris:20260418T180000
DTEND;TZID=Europe/Paris:20260418T223000
DTSTAMP:20260419T173119
CREATED:20260220T204829Z
LAST-MODIFIED:20260305T193610Z
UID:1256-1776535200-1776551400@kytaristizparku.eu
SUMMARY:Alkohol Free Party
DESCRIPTION:🎉 ALKOHOL FREE PARTY 🎉\n18. 4. od 18.00📍 KC Líšeň\, Klajdovská 1050/28\, 628 00 Brno \nPřijď zažít večer\, kde zábava nepotřebuje ani kapku alkoholu!Čeká tě hudba\, tanec\, skvělé jídlo a originální drinky bez promile – a hlavně atmosféra\, která tě nabije energií. \n✨ Pro všechny\, kdo hledají zábavu s čistou hlavou✨ Pro abstinující\, podporující i zvědavé✨ Pro ty\, kteří chtějí zkusit něco jiného✨ Pro všechny\, kdo volí svobodu \nTěšit se můžeš na:🎶 Živou hudbu💃 Tanec🎁 Tombolu🤝 Super lidi na stejné vlně \nPřijď si užít večer\, na který si budeš pamatovat.Bav se naplno. Bez alkoholu. Bez omezení. \nTěšíme se na tebe! 💛
URL:https://kytaristizparku.eu/udalost/alkohol-free-party/
LOCATION:KC Líšeň\, Klajdovská 1050/28\, Brno\, 62800
CATEGORIES:Veřejná hudební událost
ATTACH;FMTTYPE=image/jpeg:https://kytaristizparku.eu/wp-content/uploads/2026/02/ctverec-–-nazev-akce-1.jpg
ORGANIZER;CN="Kytaristi z Parku":MAILTO:jsme@kytaristizparku.eu
END:VEVENT
END:VCALENDAR