BEGIN:VCALENDAR
VERSION:2.0
PRODID:-//Kytaristi z Parku z.s. - ECPv6.15.20//NONSGML v1.0//EN
CALSCALE:GREGORIAN
METHOD:PUBLISH
X-WR-CALNAME:Kytaristi z Parku z.s.
X-ORIGINAL-URL:https://kytaristizparku.eu
X-WR-CALDESC:Akce na Kytaristi z Parku z.s.
REFRESH-INTERVAL;VALUE=DURATION:PT1H
X-Robots-Tag:noindex
X-PUBLISHED-TTL:PT1H
BEGIN:VTIMEZONE
TZID:Europe/Paris
BEGIN:DAYLIGHT
TZOFFSETFROM:+0100
TZOFFSETTO:+0200
TZNAME:CEST
DTSTART:20250330T010000
END:DAYLIGHT
BEGIN:STANDARD
TZOFFSETFROM:+0200
TZOFFSETTO:+0100
TZNAME:CET
DTSTART:20251026T010000
END:STANDARD
BEGIN:DAYLIGHT
TZOFFSETFROM:+0100
TZOFFSETTO:+0200
TZNAME:CEST
DTSTART:20260329T010000
END:DAYLIGHT
BEGIN:STANDARD
TZOFFSETFROM:+0200
TZOFFSETTO:+0100
TZNAME:CET
DTSTART:20261025T010000
END:STANDARD
BEGIN:DAYLIGHT
TZOFFSETFROM:+0100
TZOFFSETTO:+0200
TZNAME:CEST
DTSTART:20270328T010000
END:DAYLIGHT
BEGIN:STANDARD
TZOFFSETFROM:+0200
TZOFFSETTO:+0100
TZNAME:CET
DTSTART:20271031T010000
END:STANDARD
END:VTIMEZONE
BEGIN:VEVENT
DTSTART;TZID=Europe/Paris:20260603T140000
DTEND;TZID=Europe/Paris:20260603T170000
DTSTAMP:20260419T172505
CREATED:20260413T131630Z
LAST-MODIFIED:20260413T131636Z
UID:1369-1780495200-1780506000@kytaristizparku.eu
SUMMARY:Hraní v domově pro seniory Lesná
DESCRIPTION:Hraní v domově pro seniory Lesná. \nNeveřejné hraní pro domov důchodců na Oblé.
URL:https://kytaristizparku.eu/udalost/hrani-v-domove-pro-seniory-lesna/
CATEGORIES:Soukromé a uzavřené události
END:VEVENT
BEGIN:VEVENT
DTSTART;TZID=Europe/Paris:20260603T180000
DTEND;TZID=Europe/Paris:20260603T220000
DTSTAMP:20260419T172505
CREATED:20260326T183936Z
LAST-MODIFIED:20260326T183944Z
UID:1345-1780509600-1780524000@kytaristizparku.eu
SUMMARY:Červnové kytary v Parku
DESCRIPTION:Červnové kytary v Parku \nDá-li počasí budeme zase venku hrát a zpívat. \nVezměte si nástroje a přijďte si s námi zahrát a zazpívat ze společného zpěvníku. Každý je srdečně vítán.
URL:https://kytaristizparku.eu/udalost/cervnove-kytary-v-parku/
LOCATION:Bistro Park\, Riegerova\, Šlapanice\, Riegerova\, Šlapanice\, 66451\, Česká republika
CATEGORIES:Veřejná hudební událost
ATTACH;FMTTYPE=image/jpeg:https://kytaristizparku.eu/wp-content/uploads/2024/04/kytary2.jpg
END:VEVENT
BEGIN:VEVENT
DTSTART;TZID=Europe/Paris:20260606T140000
DTEND;TZID=Europe/Paris:20260606T170000
DTSTAMP:20260419T172505
CREATED:20260326T185217Z
LAST-MODIFIED:20260326T185225Z
UID:1353-1780754400-1780765200@kytaristizparku.eu
SUMMARY:(Ne)vinné slavnosti ve Slatině
DESCRIPTION:(Ne)vinné slavnosti ve Slatině. \nPřijďte si užít slavnostní atmosféru a poslehnout soi hudbu od nás. ❤️
URL:https://kytaristizparku.eu/udalost/nevinne-slavnosti-ve-slatine/
LOCATION:Přemyslovo náměstí\, Přemyslovo náměstí\, Brno\, 616 00
CATEGORIES:Veřejná hudební událost
ATTACH;FMTTYPE=image/jpeg:https://kytaristizparku.eu/wp-content/uploads/2026/03/u-mikulaska.jpg
END:VEVENT
BEGIN:VEVENT
DTSTART;TZID=Europe/Paris:20260610T180000
DTEND;TZID=Europe/Paris:20260610T220000
DTSTAMP:20260419T172505
CREATED:20260326T184653Z
LAST-MODIFIED:20260326T184700Z
UID:1348-1781114400-1781128800@kytaristizparku.eu
SUMMARY:První kytary na Sokecu
DESCRIPTION:První kytary na Sokecu. ❤️ \nV červnu už bude určitě krásně a tak si dřepnem venku na zahrádku a zadrnkáme pro radost. Kdo chce\, může se přidat. Vítáme každého dobrého člověka. \nTěšíme se
URL:https://kytaristizparku.eu/udalost/prvni-kytary-na-sokecu/
LOCATION:Sokec Šlapanice\, Nádražní 706/87\, Šlapanice\, 66451
CATEGORIES:Veřejná hudební událost
ATTACH;FMTTYPE=image/jpeg:https://kytaristizparku.eu/wp-content/uploads/2025/07/viber_image_2025-07-09_23-29-16-020.jpg
END:VEVENT
BEGIN:VEVENT
DTSTART;TZID=Europe/Paris:20260613T120000
DTEND;TZID=Europe/Paris:20260613T190000
DTSTAMP:20260419T172505
CREATED:20260326T185959Z
LAST-MODIFIED:20260326T190010Z
UID:1363-1781352000-1781377200@kytaristizparku.eu
SUMMARY:Zahájení sezóny v kempu Kaktus
DESCRIPTION:Zahájení sezóny v kempu Kaktus. \nBude to velká paráda… Přijeďte si to užít s námi.
URL:https://kytaristizparku.eu/udalost/zahajeni-sezony-v-kempu-kaktus/
LOCATION:Kemp Kaktus Velké Meziříčí\, V potokách\, Velké Meziříčí\, 59401
CATEGORIES:Veřejná hudební událost
ATTACH;FMTTYPE=image/jpeg:https://kytaristizparku.eu/wp-content/uploads/2025/07/viber_image_2025-07-09_23-29-16-020.jpg
END:VEVENT
BEGIN:VEVENT
DTSTART;TZID=Europe/Paris:20260624T180000
DTEND;TZID=Europe/Paris:20260624T220000
DTSTAMP:20260419T172505
CREATED:20260326T185559Z
LAST-MODIFIED:20260326T185607Z
UID:1359-1782324000-1782338400@kytaristizparku.eu
SUMMARY:Druhé kytary na Sokecu
DESCRIPTION:Druhé kytary na Sokecu \nPřijďte si za námi zahrát a zazpívat. Budeme dřepět na zahrádce. Tak se nestyďte a doražte. I s dětmi\, je tam hřiště
URL:https://kytaristizparku.eu/udalost/druhe-kytary-na-sokecu/
LOCATION:Sokec Šlapanice\, Nádražní 706/87\, Šlapanice\, 66451
CATEGORIES:Veřejná hudební událost
ATTACH;FMTTYPE=image/jpeg:https://kytaristizparku.eu/wp-content/uploads/2025/07/viber_image_2025-07-09_23-29-16-020.jpg
END:VEVENT
END:VCALENDAR