BEGIN:VCALENDAR
VERSION:2.0
PRODID:-//Kytaristi z Parku z.s. - ECPv6.15.20//NONSGML v1.0//EN
CALSCALE:GREGORIAN
METHOD:PUBLISH
X-WR-CALNAME:Kytaristi z Parku z.s.
X-ORIGINAL-URL:https://kytaristizparku.eu
X-WR-CALDESC:Akce na Kytaristi z Parku z.s.
REFRESH-INTERVAL;VALUE=DURATION:PT1H
X-Robots-Tag:noindex
X-PUBLISHED-TTL:PT1H
BEGIN:VTIMEZONE
TZID:Europe/Paris
BEGIN:DAYLIGHT
TZOFFSETFROM:+0100
TZOFFSETTO:+0200
TZNAME:CEST
DTSTART:20250330T010000
END:DAYLIGHT
BEGIN:STANDARD
TZOFFSETFROM:+0200
TZOFFSETTO:+0100
TZNAME:CET
DTSTART:20251026T010000
END:STANDARD
BEGIN:DAYLIGHT
TZOFFSETFROM:+0100
TZOFFSETTO:+0200
TZNAME:CEST
DTSTART:20260329T010000
END:DAYLIGHT
BEGIN:STANDARD
TZOFFSETFROM:+0200
TZOFFSETTO:+0100
TZNAME:CET
DTSTART:20261025T010000
END:STANDARD
BEGIN:DAYLIGHT
TZOFFSETFROM:+0100
TZOFFSETTO:+0200
TZNAME:CEST
DTSTART:20270328T010000
END:DAYLIGHT
BEGIN:STANDARD
TZOFFSETFROM:+0200
TZOFFSETTO:+0100
TZNAME:CET
DTSTART:20271031T010000
END:STANDARD
END:VTIMEZONE
BEGIN:VEVENT
DTSTART;TZID=Europe/Paris:20260506T180000
DTEND;TZID=Europe/Paris:20260506T220000
DTSTAMP:20260419T172444
CREATED:20260326T182309Z
LAST-MODIFIED:20260326T182318Z
UID:1335-1778090400-1778104800@kytaristizparku.eu
SUMMARY:Květnové kytary v Parku
DESCRIPTION:Květnové kytary v Parku. Třeba už bude hezky a zahrajeme si venku. \nNástroje sebou a vyražte si s námi zahrát a zazpívat.
URL:https://kytaristizparku.eu/udalost/kvetnove-kytary-v-parku/
LOCATION:Bistro Park\, Riegerova\, Šlapanice\, Riegerova\, Šlapanice\, 66451\, Česká republika
CATEGORIES:Veřejná hudební událost
ATTACH;FMTTYPE=image/jpeg:https://kytaristizparku.eu/wp-content/uploads/2024/04/kytary2.jpg
END:VEVENT
END:VCALENDAR