BEGIN:VCALENDAR
VERSION:2.0
PRODID:-//Kytaristi z Parku z.s. - ECPv6.15.20//NONSGML v1.0//EN
CALSCALE:GREGORIAN
METHOD:PUBLISH
X-ORIGINAL-URL:https://kytaristizparku.eu
X-WR-CALDESC:Akce na Kytaristi z Parku z.s.
REFRESH-INTERVAL;VALUE=DURATION:PT1H
X-Robots-Tag:noindex
X-PUBLISHED-TTL:PT1H
BEGIN:VTIMEZONE
TZID:Europe/Paris
BEGIN:DAYLIGHT
TZOFFSETFROM:+0100
TZOFFSETTO:+0200
TZNAME:CEST
DTSTART:20250330T010000
END:DAYLIGHT
BEGIN:STANDARD
TZOFFSETFROM:+0200
TZOFFSETTO:+0100
TZNAME:CET
DTSTART:20251026T010000
END:STANDARD
BEGIN:DAYLIGHT
TZOFFSETFROM:+0100
TZOFFSETTO:+0200
TZNAME:CEST
DTSTART:20260329T010000
END:DAYLIGHT
BEGIN:STANDARD
TZOFFSETFROM:+0200
TZOFFSETTO:+0100
TZNAME:CET
DTSTART:20261025T010000
END:STANDARD
BEGIN:DAYLIGHT
TZOFFSETFROM:+0100
TZOFFSETTO:+0200
TZNAME:CEST
DTSTART:20270328T010000
END:DAYLIGHT
BEGIN:STANDARD
TZOFFSETFROM:+0200
TZOFFSETTO:+0100
TZNAME:CET
DTSTART:20271031T010000
END:STANDARD
END:VTIMEZONE
BEGIN:VEVENT
DTSTART;TZID=Europe/Paris:20260505T140000
DTEND;TZID=Europe/Paris:20260505T170000
DTSTAMP:20260419T172616
CREATED:20260326T181926Z
LAST-MODIFIED:20260326T181935Z
UID:1331-1777989600-1778000400@kytaristizparku.eu
SUMMARY:Hraní v domově pro seniory na Vychodilové
DESCRIPTION:Hraní v domově pro seniory na Vychodilové v Židenicích.  \nNeveřejná událost.
URL:https://kytaristizparku.eu/udalost/hrani-v-domove-pro-seniory-na-vychodilove/
CATEGORIES:Soukromé a uzavřené události
ATTACH;FMTTYPE=image/jpeg:https://kytaristizparku.eu/wp-content/uploads/2025/10/2149718956.jpg
END:VEVENT
END:VCALENDAR